BEGIN:VCALENDAR
VERSION:2.0
PRODID:-//eventon.com NONSGML v1.0//EN
CALSCALE:GREGORIAN
METHOD:PUBLISH
BEGIN:VEVENT
UID:69e67ce6564b6
DTSTAMP:20260420T192214Z
DTSTART:20200125
DTEND:20200126
LOCATION:Garuda Irodaház Budapest III. Huszti út 35. fszt. Garuda Irodaház/Dr. Hetényi Géza sakkterem
SUMMARY:Hóbagoly FIDE Rapid verseny
DESCRIPTION:Hóbagoly FIDE Rapid verseny\nhttps://sakkmezo.hu/events/hobago
 ly-fide-rapid-verseny/
URL:https://sakkmezo.hu/events/hobagoly-fide-rapid-verseny/
END:VEVENT
END:VCALENDAR