BEGIN:VCALENDAR
VERSION:2.0
PRODID:-//eventon.com NONSGML v1.0//EN
CALSCALE:GREGORIAN
METHOD:PUBLISH
BEGIN:VEVENT
UID:69e6e1b5b6970
DTSTAMP:20260421T023221Z
DTSTART:20200620
DTEND:20200621
LOCATION:Balatonboglár Balatonboglár
SUMMARY:ELMARAD - U8\,  U10\,  U12\,  U14\,  U16\,  U18 Korcsoportos OB Körmérkőzéses Döntő
DESCRIPTION:ELMARAD - U8\,  U10\,  U12\,  U14\,  U16\,  U18 Korcsoportos OB
  Körmérkőzéses Döntő\nhttps://sakkmezo.hu/events/u8-u10-u12-u14-u16-u
 18-korcsoportos-ob-kormerkozeses-donto/
URL:https://sakkmezo.hu/events/u8-u10-u12-u14-u16-u18-korcsoportos-ob-kormerkozeses-donto/
END:VEVENT
END:VCALENDAR