BEGIN:VCALENDAR
VERSION:2.0
PRODID:-//eventon.com NONSGML v1.0//EN
CALSCALE:GREGORIAN
METHOD:PUBLISH
BEGIN:VEVENT
UID:69e75150b9b07
DTSTAMP:20260421T102832Z
DTSTART:20201022
DTEND:20201023
LOCATION:Szent István Hitoktatási és Művelődési Ház Székesfehérvár\,  Liszt Ferenc u. 1.
SUMMARY:XVII. FEHÉRVÁR BÖLLHOFF KUPA
DESCRIPTION:Nevezési határidő: 2020.10.18.. Nevezés: fejersakk@gmail.co
 m Versenykiírás Nevezők listája\nhttps://sakkmezo.hu/events/xvii-feherv
 ar-bollhoff-kupa/
URL:https://sakkmezo.hu/events/xvii-fehervar-bollhoff-kupa/
END:VEVENT
END:VCALENDAR