BEGIN:VCALENDAR
VERSION:2.0
PRODID:-//eventon.com NONSGML v1.0//EN
CALSCALE:GREGORIAN
METHOD:PUBLISH
BEGIN:VEVENT
UID:69e8a69ad0a04
DTSTAMP:20260422T104442Z
DTSTART:20210520
DTEND:20210521
LOCATION:Berekfürdő\,  Üveggyár\,  sportcsarnok Berekfürdő\,  Üveggyár
SUMMARY:VII. Wolf György emlékverseny A és B csopprt
DESCRIPTION:VÉGEREDMÉNY OPEN VÉGEREDMÉNY B CSOPORT Verseny résztvevői
 : érvényes versenyengedéllyel rendelkező sakkozók\,  akik nevezését 
 a szervező elfogadta és visszaigazolta. A csoport ( Bod László Művelő
 dési Ház): Elsősorban 1900 feletti Fide Élő-pontszámmal rendelkezők 
 B csoport (Üveggyár): Elsősorban 1900 alatti Fide Élő-pontszámmal ren
 delkezők\,  valamint Fide élőpontszám nélküliek Verseny szervezője: 
 Egyed Zsolt Nevezés: egyedzs72@gmail.com[..]\nhttps://sakkmezo.hu/events/v
 ii-wolf-gyorgy-emlekverseny-a-es-b-csopprt/
URL:https://sakkmezo.hu/events/vii-wolf-gyorgy-emlekverseny-a-es-b-csopprt/
END:VEVENT
END:VCALENDAR