BEGIN:VCALENDAR
VERSION:2.0
PRODID:-//eventon.com NONSGML v1.0//EN
CALSCALE:GREGORIAN
METHOD:PUBLISH
BEGIN:VEVENT
UID:69e66cdd47470
DTSTAMP:20260420T181349Z
DTSTART:20220513
DTEND:20220514
LOCATION:
SUMMARY:Csapat Diákolimpia Országos döntő
DESCRIPTION:Korcsoportok: I-II. korcsoport: 2010.12.31. után született di
 ákok III-IV. korcsoport: 2007.01.01-2010.12.31. közötti időszakban szü
 letett diákok V-VI. korcsoport: 2002.01.01-2006.12.31. közötti időszakb
 an született diákok A leánycsapatok mindhárom kategóriában 3\,  a fi
 csapatok 4 táblásak. Valamennyi csapatban 1 fő tartalék szerepeltethet
 ő. Csapatverseny esetén a „felversenyzés” engedélyezett\,  azonban 
 felversenyzés esetén a versenyző a saját korcsoportjába csapatversenyb
 en[..]\nhttps://sakkmezo.hu/events/csapat-diakolimpia-orszagos-donto/
URL:https://sakkmezo.hu/events/csapat-diakolimpia-orszagos-donto/
END:VEVENT
END:VCALENDAR