BEGIN:VCALENDAR
VERSION:2.0
PRODID:-//eventon.com NONSGML v1.0//EN
CALSCALE:GREGORIAN
METHOD:PUBLISH
BEGIN:VEVENT
UID:69e9df81c9949
DTSTAMP:20260423T085945Z
DTSTART:20220702
DTEND:20220703
LOCATION:Hotel Berlin Budapest XI.\,  Hunyadi János út 2. Hotel Berlin
SUMMARY:First Saturday GM és IM csoport
DESCRIPTION:Eredmények GM csoport IM csoport Nádassy csoport e-mail: fir
 stsat@hu.inter.net        whatsapp: +36-30-230-1914\nhttps://sakkmezo.h
 u/events/first-saturday-gm-es-im-csoport-8/
URL:https://sakkmezo.hu/events/first-saturday-gm-es-im-csoport-8/
END:VEVENT
END:VCALENDAR