BEGIN:VCALENDAR
VERSION:2.0
PRODID:-//eventon.com NONSGML v1.0//EN
CALSCALE:GREGORIAN
METHOD:PUBLISH
BEGIN:VEVENT
UID:69ebb16c14973
DTSTAMP:20260424T180740Z
DTSTART:20230316
DTEND:20230317
LOCATION:Danubius Hotel Budapest\,  Szilágyi Erzsébet fasor 47.
SUMMARY:Vezérképző GM\,  IM és FM csoportok
DESCRIPTION:Végeredmény SPRING GM csoport GM csoport IM csoport FM csopor
 t e-mail: attilaczebe75@gmail.com\,  whatsapp: +36307152053\nhttps://sakkme
 zo.hu/events/vezerkepzo-gm-im-es-sch-csoportok-8/
URL:https://sakkmezo.hu/events/vezerkepzo-gm-im-es-sch-csoportok-8/
END:VEVENT
END:VCALENDAR