BEGIN:VCALENDAR
VERSION:2.0
PRODID:-//eventon.com NONSGML v1.0//EN
CALSCALE:GREGORIAN
METHOD:PUBLISH
BEGIN:VEVENT
UID:69e7701c1084a
DTSTAMP:20260421T123956Z
DTSTART:20240322
DTEND:20240323
LOCATION:Testnevelési Egyetem Budapest\,  Alkotás utca 48.
SUMMARY:Sakkfesztivál\,  Szabó László és Kállai Gábor Emlékverseny (Rapid és Blitz FIDE verseny)
DESCRIPTION:Junior Rapid Magyar Bajnokság 2024 GM Szabó László Emlékve
 rseny A verseny résztvevői: 2024. évre érvényes versenyengedéllyel re
 ndelkező 2004. január 1. után született játékosok. A verseny lebonyol
 ítása: 9 fordulós svájci rendszerben 10 perc + 5 másodperc  bónuszid
 ővel. Nyílt villámverseny Kállai Gábor Emlékverseny A verseny résztv
 evői: 2024. évre érvényes versenyengedéllyel vagy HPL-el[..]\nhttps://
 sakkmezo.hu/events/kallaiemlekverseny/
URL:https://sakkmezo.hu/events/kallaiemlekverseny/
END:VEVENT
END:VCALENDAR